BEGIN:VCALENDAR
VERSION:2.0
PRODID:-//eventon.com NONSGML v1.0//EN
CALSCALE:GREGORIAN
METHOD:PUBLISH
BEGIN:VEVENT
UID:69e609eed8c31
DTSTAMP:20260420T111142Z
DTSTART:20240420T110000Z
DTEND:20240420T140000Z
LOCATION:
SUMMARY:Wir empfehlen: "Solarspaziergang â€“ MÃ¼nchen Ost"
DESCRIPTION:Solarspaziergang &#8211; MÃ¼nchen Ost &nbsp; Wann?Â  Â  Â  Â  Â
   Â  Â  20.04.2024\,  13.00 &#8211; 16.00 Uhr Wo?Â  Â  Â  Â  Â  Â  Â  Â  Â 
  Â MÃ¼nchner Osten Anmeldung?Â  Â solar@truderingimwandel.de &nbsp; Spielt 
 ihr auch schon seit lÃ¤ngerem mit dem Gedanken\,  eine Balkonsolar-Anlage a
 n eure Balkone zu schrauben oder Solarmodule auf[..]\nhttps://www.m-i-n.net
 /events/solarspaziergang-muenchen-ost/
URL:https://www.m-i-n.net/events/solarspaziergang-muenchen-ost/
END:VEVENT
END:VCALENDAR