BEGIN:VCALENDAR
VERSION:2.0
PRODID:-//eventon.com NONSGML v1.0//EN
CALSCALE:GREGORIAN
METHOD:PUBLISH
BEGIN:VEVENT
UID:69e74c7fa176b
DTSTAMP:20260421T100759Z
DTSTART:20240425T160000Z
DTEND:20240425T180000Z
LOCATION:
SUMMARY:Wir empfehlen: "Naturgarten Solln – Leben macht Laune”
DESCRIPTION:Naturgarten Solln – “Leben macht Laune” &nbsp; Wann?   
            25.04.2024\,  18.00 &#8211; 20.00 Uhr Wo?            
        Naturgartentreff Solln Anmeldung?   https://leocor.org/veranst
 altungen/naturgartentreff-auftakt/ &nbsp; Was könnte schöner sein\,  als 
 wenn es blüht\,  brummt\,  summt und zwitschert? Unser neuer Treff in Soll
 n[..]\nhttps://www.m-i-n.net/events/naturgarten-solln-leben-macht-laune/
URL:https://www.m-i-n.net/events/naturgarten-solln-leben-macht-laune/
END:VEVENT
END:VCALENDAR