BEGIN:VCALENDAR
VERSION:2.0
PRODID:-//eventon.com NONSGML v1.0//EN
CALSCALE:GREGORIAN
METHOD:PUBLISH
BEGIN:VEVENT
UID:69e74c238427f
DTSTAMP:20260421T100627Z
DTSTART:20240418T080000Z
DTEND:20240418T113000Z
LOCATION:
SUMMARY:Wir empfehlen: "InfobÃ¶rse fÃ¼r Frauen* aus aller Welt"
DESCRIPTION:InfobÃ¶rse fÃ¼r Frauen* aus aller Welt: amÂ 18. April 2024 Wir 
 freuen uns\,  dass auch 2024 die InfobÃ¶rse fÃ¼r Frauen* aus aller Welt wie
 der stattfindet: am Donnerstag\,  18. April 2024. Wann?Â  Â  Â  Â  Â  Â Â Â
  Â  Â  18.04.2024 Wo?Â Â Â Â Â Â Â Â Â Â Â Â Â Â Â Â Â Â Â Â Â  Altes Ratha
 us\,  MÃ¼nchen Kosten?Â Â  Â Â Â Â Â Â Â Â Â Â Â  kostenlos &nbsp; Integrat
 ion bedeutet dazuzugehÃ¶ren und sich[..]\nhttps://www.m-i-n.net/events/wir-
 empfehlen-infoboerse-fuer-frauen-aus-aller-welt/
URL:https://www.m-i-n.net/events/wir-empfehlen-infoboerse-fuer-frauen-aus-aller-welt/
END:VEVENT
END:VCALENDAR