BEGIN:VCALENDAR
VERSION:2.0
PRODID:-//eventon.com NONSGML v1.0//EN
CALSCALE:GREGORIAN
METHOD:PUBLISH
BEGIN:VEVENT
UID:69e4e7b997183
DTSTAMP:20260419T143329Z
DTSTART:20240423T163000Z
DTEND:20240423T180000Z
LOCATION:
SUMMARY:Wir empfehlen: "Recht auf gerecht! Der Talk Ã¼ber Gerechtigkeit 2.0."
DESCRIPTION:Podiumsdiskussion Recht auf gerecht! Der Talk Ã¼ber Gerechtigke
 it 2.0. Haben wir noch Kohle\,  wenn wir alt sind? &nbsp; Wann?Â  Â  Â  Â  
 Â  Â Â Â Â  Â  23.04.2024\,  18:30 bis 20.00 Wo?Â Â Â Â Â Â Â Â Â Â Â Â Â Â
  Â Â Â Â Â Â Â  Alte Utting\,  LagerhausstraÃŸe 15\,  MÃ¼nchen Kosten?Â Â  
 Â Â Â Â Â Â Â Â Â Â Â  kostenlos Veranstalter? Â Â  Petra-Kelly-Stiftung &n
 bsp; Einmal im Monat lÃ¤dt die Journalistin Helene Reiner[..]\nhttps://www.
 m-i-n.net/events/wir-empfehlen-recht-auf-gerecht-der-talk-ueber-gerechtigke
 it-2-0/
URL:https://www.m-i-n.net/events/wir-empfehlen-recht-auf-gerecht-der-talk-ueber-gerechtigkeit-2-0/
END:VEVENT
END:VCALENDAR