BEGIN:VCALENDAR
VERSION:2.0
PRODID:-//eventon.com NONSGML v1.0//EN
CALSCALE:GREGORIAN
METHOD:PUBLISH
BEGIN:VEVENT
UID:69e7476c124f8
DTSTAMP:20260421T094620Z
DTSTART:20240229T173000Z
DTEND:20240229T193000Z
LOCATION:
SUMMARY:Wir empfehlen: "Sitzungen des Münchner Klimarats"
DESCRIPTION:Sitzungen des Münchner Klimarats &nbsp; Wann und Wo? 29. Febru
 ar 2024\,  18:30 Uhr\,  großer Sitzungssaal 21. März 2024\,  18:30\,  Rau
 m 1009 im Referat für Klimaschutz und Umwelt 25. April 2024\,  18 Uhr\,  g
 roßer Sitzungssaal 4. Juni 2024\,  18 Uhr\,  großer Sitzungssaal 2. Juli 
 2024\,  18 Uhr\,  großer Sitzungssaal Anmeldung? per[..]\nhttps://www.m-i-
 n.net/events/wir-empfehlen-sitzungen-des-muenchner-klimarats/
URL:https://www.m-i-n.net/events/wir-empfehlen-sitzungen-des-muenchner-klimarats/
END:VEVENT
END:VCALENDAR