BEGIN:VCALENDAR
VERSION:2.0
PRODID:-//eventon.com NONSGML v1.0//EN
CALSCALE:GREGORIAN
METHOD:PUBLISH
BEGIN:VEVENT
UID:69e5f571b0416
DTSTAMP:20260420T094417Z
DTSTART:20240430T170000Z
DTEND:20240430T190000Z
LOCATION:
SUMMARY:Wir empfehlen: " Kommunale WÃ¤rmeplanung MÃ¼nchen â€“ Stand und Ausblick"
DESCRIPTION:Dr. Tilmann Rave und Dr. Herbert Koschel: â€žKommunale WÃ¤rmepl
 anung MÃ¼nchen â€“ Stand und Ausblickâ€œ &nbsp; Wann? Â Â Â Â Â Â Â Â Â  Â 
 Â Â Â Â Â Â Â Â  Dienstag\,  30.04.2024\,  19 Uhr Wo? Â Â Â Â Â Â Â Â Â Â Â
  Â Â Â  Â Â Â Â Â Â Â Â Â  SHK-Innung Spengler_SanitaÌˆr_Heizung\,  Rupert-
 Mayer-Str. 41\,  MuÌˆnchen Â Â Â Â  Â  Â Â  sowie per Zoom-Online und LIVE 
 auf Youtube Anmeldung? Â Â Â Â Â Â Â Â  unbedingt erforderlich: www.protect
 -the-planet.de/event/ Kosten?Â  Â  Â  Â  Â [..]\nhttps://www.m-i-n.net/even
 ts/wir-empfehlen-kommunale-waermeplanung-muenchen-stand-und-ausblick/
URL:https://www.m-i-n.net/events/wir-empfehlen-kommunale-waermeplanung-muenchen-stand-und-ausblick/
END:VEVENT
END:VCALENDAR