BEGIN:VCALENDAR
VERSION:2.0
PRODID:-//eventon.com NONSGML v1.0//EN
CALSCALE:GREGORIAN
METHOD:PUBLISH
BEGIN:VEVENT
UID:69e75d957f475
DTSTAMP:20260421T112053Z
DTSTART:20240310T090000Z
DTEND:20240310T160000Z
LOCATION:
SUMMARY:Wir empfehlen: "MÃ¼nchner Freiwilligen Messe"
DESCRIPTION:Die MÃ¼nchner Freiwilligen Messe 2024 Wann? Â  Â  Â  Â  Â  Â  Â
   Â  Â  Â  Â Sonntag\,  10\,  MÃ¤rz 2024 Wo?Â  Â  Â  Â  Â  Â  Â  Â  Â  Â  Â
   Â  Â  Â im Neuen und Alten Rathaus Kosten?Â  Â  Â  Â  Â  Â  Â  Â  Â  Â  T
 eilnahme kostenfrei[..]\nhttps://www.m-i-n.net/events/wir-empfehlen-muenchn
 er-freiwilligen-messe/
URL:https://www.m-i-n.net/events/wir-empfehlen-muenchner-freiwilligen-messe/
END:VEVENT
END:VCALENDAR