BEGIN:VCALENDAR
VERSION:2.0
PRODID:-//eventon.com NONSGML v1.0//EN
CALSCALE:GREGORIAN
METHOD:PUBLISH
BEGIN:VEVENT
UID:69e75f4a99bd4
DTSTAMP:20260421T112810Z
DTSTART:20240117T170000Z
DTEND:20240117T180000Z
LOCATION:
SUMMARY:Wir empfehlen: "Online-Infoabend: Photovoltaik und Artenvielfalt auf begrünten Flachdächern – so geht’s!"
DESCRIPTION:Online-Infoabend: Photovoltaik und Artenvielfalt auf begrünten
  Flachdächern – so geht’s! 17.01.2024\,  18:00- 19:00 Uhr Veranstaltun
 gsort: online Veranstalter*innen: Bauzentrum München\,  Wattbewerb Münche
 n Anmeldung: Bauzentrum Anmeldung Referent: Dr. Andreas Horn\,  Solar Exper
 te Flachdächer sind aktuell Standard im Wohnungsbau\,  denn sie sind viels
 eitig nutzbar: Als Erholungsräume\,  für „Urban Gardening“\,  als Bio
 diversitätsflächen in der[..]\nhttps://www.m-i-n.net/events/wir-empfehlen
 -online-infoabend-photovoltaik-und-artenvielfalt-auf-begruenten-flachdaeche
 rn/
URL:https://www.m-i-n.net/events/wir-empfehlen-online-infoabend-photovoltaik-und-artenvielfalt-auf-begruenten-flachdaechern/
END:VEVENT
END:VCALENDAR