BEGIN:VCALENDAR
VERSION:2.0
PRODID:-//eventon.com NONSGML v1.0//EN
CALSCALE:GREGORIAN
METHOD:PUBLISH
BEGIN:VEVENT
UID:69e74b42c8869
DTSTAMP:20260421T100242Z
DTSTART:20240229T080000Z
DTEND:20240229T190000Z
LOCATION:
SUMMARY:Equal Care Day- Festival
DESCRIPTION:Equal Care Day- Festival 29.02.2024\,  9:00- 20:00 Uhr Ort: Kul
 turzentrum LUISE Ruppertstraße 5\,  80337 München Infos: M-i-n.net/Equal-
 Care-Day/ Zum ersten Mal wird es unter dem Motto „Care Utopien“ im komm
 enden Jahr auch in München eine Veranstaltung zum Equal Care Day geben. Da
 s Münchner Bündnis Equal Care\,  das sich die gerechte Verteilung[..]\nht
 tps://www.m-i-n.net/events/equal-care-day-festival-muenchen/
URL:https://www.m-i-n.net/events/equal-care-day-festival-muenchen/
END:VEVENT
END:VCALENDAR