BEGIN:VCALENDAR
VERSION:2.0
PRODID:-//eventon.com NONSGML v1.0//EN
CALSCALE:GREGORIAN
METHOD:PUBLISH
BEGIN:VEVENT
UID:69e75f1fd03d2
DTSTAMP:20260421T112727Z
DTSTART:20231207T180000Z
DTEND:20231207T193000Z
LOCATION:
SUMMARY:Wir empfehlen: "Balkonkraftwerk Infoveranstaltung – Energiewende in Bürgerhand"
DESCRIPTION:Balkonkraftwerk Infoveranstaltung – Energiewende in Bürgerha
 nd 07. Dezember 2023\,  19.00 – 20.30 Uhr Veranstaltungsort: online Infos
  und Anmeldung unter: Solar 2030 Veranstalter: Solar 2030 Balkonkraftwerke 
 (auch Stecker-Solargeräte) sind kinderleicht in der Handhabung wenn man au
 f ein paar Dinge achtet. Dann heißt es: einstecken\,  Sonnenenergie ernten
 \,  Klima schützen und gleichzeitig noch[..]\nhttps://www.m-i-n.net/events
 /wir-empfehlen-balkonkraftwerk-infoveranstaltung/
URL:https://www.m-i-n.net/events/wir-empfehlen-balkonkraftwerk-infoveranstaltung/
END:VEVENT
END:VCALENDAR