BEGIN:VCALENDAR
VERSION:2.0
PRODID:-//eventon.com NONSGML v1.0//EN
CALSCALE:GREGORIAN
METHOD:PUBLISH
BEGIN:VEVENT
UID:69e60483091a8
DTSTAMP:20260420T104835Z
DTSTART:20231105T170000Z
DTEND:20231105T183000Z
LOCATION:
SUMMARY:Wir empfehlen: "Special Screening: Holy Shit"
DESCRIPTION:Special Screening: Holy Shit 05. Dezember\,  18:00 Uhr Infos un
 d Anmeldung unter: city kinos In Kooperation mit der Deutschen Umwelthilfe 
 und farbfilm Verleih zeigen wir Holy Shit in Anwesenheit des Regisseurs Rub
 én Abruña und Kompotoi-Mitgründer Jojo Casanova. Was geschieht mit der 
 Nahrung\,  die wir verdauen\,  nachdem sie unseren Körper verlassen hat?[.
 .]\nhttps://www.m-i-n.net/events/wir-empfehlen-special-screening-holy-shit/
URL:https://www.m-i-n.net/events/wir-empfehlen-special-screening-holy-shit/
END:VEVENT
END:VCALENDAR