BEGIN:VCALENDAR
VERSION:2.0
PRODID:-//eventon.com NONSGML v1.0//EN
CALSCALE:GREGORIAN
METHOD:PUBLISH
BEGIN:VEVENT
UID:69e5ea41deabe
DTSTAMP:20260420T085633Z
DTSTART:20231030T163000Z
DTEND:20231030T193000Z
LOCATION:
SUMMARY:Wir empfehlen: "Klima echt gerecht (KlimaHerbst)"
DESCRIPTION:Klima echt gerecht (KlimaHerbst) 30.Oktober 2023 17:30 â€“ 20:3
 0 Uhr Veranstalter: Bellevue di Monaco\,  Mikado InitiativGruppe e.V.\,  MÃ
 ¼nchner Initiative Nachhaltigkeit\,  Morgen e.V.\,  MÃ¼nchen global engagie
 rt\,  Netzwerk Klimaherbst e.V. Veranstaltungsort:MÃ¼nchner Stadtmuseum\,  
 Sankt-Jakobs-Platz 1\,  MÃ¼nchen Die Auswirkungen der Klimakrise sind ungle
 ich verteilt: Menschen\,  die Ã¼ber wenig Ressourcen verfÃ¼gen\,  sind oft 
 stÃ¤rker betroffen\, [..]\nhttps://www.m-i-n.net/events/wir-empfehlen-klima
 -echt-gerecht-klimaherbst/
URL:https://www.m-i-n.net/events/wir-empfehlen-klima-echt-gerecht-klimaherbst/
END:VEVENT
END:VCALENDAR