BEGIN:VCALENDAR
VERSION:2.0
PRODID:-//eventon.com NONSGML v1.0//EN
CALSCALE:GREGORIAN
METHOD:PUBLISH
BEGIN:VEVENT
UID:69e5f497055bd
DTSTAMP:20260420T094039Z
DTSTART:20231107T080000Z
DTEND:20231107T160000Z
LOCATION:
SUMMARY:Wir empfehlen: "7. Bayerische Nachhaltigkeitstagung "Nachhaltigkeit in Zeiten knapper Kassen""
DESCRIPTION:7. Bayerische Nachhaltigkeitstagung &#8222;Nachhaltigkeit in Ze
 iten knapper Kassen&#8220; 7. November 2023 9:00 – 17:00 Uhr Veranstalter
 : Zentrum für nachaltige Kommunalentwicklung Veranstaltungsort: Congress C
 entrum Würzburg Referentin: Steffi Kreuzinger Infos unter: Ökoprojekt Im 
 November ist es wieder so weit für Engagierte und Aktive aus ganz Bayern: 
 Das Zentrum für nachhaltige Kommunalentwicklung in[..]\nhttps://www.m-i-n.
 net/events/wir-empfehlen-7-bayrische-nachhaltigkeitstagung/
URL:https://www.m-i-n.net/events/wir-empfehlen-7-bayrische-nachhaltigkeitstagung/
END:VEVENT
END:VCALENDAR