BEGIN:VCALENDAR
VERSION:2.0
PRODID:-//eventon.com NONSGML v1.0//EN
CALSCALE:GREGORIAN
METHOD:PUBLISH
BEGIN:VEVENT
UID:69e5fd6753cba
DTSTAMP:20260420T101815Z
DTSTART:20231019T150000Z
DTEND:20231019T180000Z
LOCATION:
SUMMARY:Wir empfehlen: "Netzwerk-Treffen BNE"
DESCRIPTION:Netzwerk-Treffen BNE\,  Regionales Vernetzungstreffen fÃ¼r Akte
 ur*innen der Bildung fÃ¼r nachhaltige Entwicklung 19. Oktober 2023 17:00 â€
 “ 20:00 Uhr Veranstalter: Ã–koprojekt Mobilspiel Veranstaltungsort:Â Ã–kolo
 gisches Bildungszentrum MÃ¼nchen oder digital Referentin: Steffi Kreuzinger
  Infos unter: Ã–koprojekt Die Akteur*innen des Netzwerks Bildung fÃ¼r nachh
 altige Entwicklung (BNE) in und um MÃ¼nchen treffen sich zweimal jÃ¤hrlich 
 bei[..]\nhttps://www.m-i-n.net/events/wir-empfehlen-netzwerk-treffen-bne/
URL:https://www.m-i-n.net/events/wir-empfehlen-netzwerk-treffen-bne/
END:VEVENT
END:VCALENDAR