BEGIN:VCALENDAR
VERSION:2.0
PRODID:-//eventon.com NONSGML v1.0//EN
CALSCALE:GREGORIAN
METHOD:PUBLISH
BEGIN:VEVENT
UID:69e7726e236ab
DTSTAMP:20260421T124950Z
DTSTART:20231123T180000Z
DTEND:20231123T193000Z
LOCATION:
SUMMARY:Wir empfehlen: "Protect the Protest: Verteidigen wir unser Recht auf Protest!"
DESCRIPTION:Protect the Protest: Verteidigen wir unser Recht auf Protest! 2
 3. November 2023 19:00 â€“ 20:30 Uhr Veranstalter: Amnesty International Be
 zirk MÃ¼nchen &amp; Oberbayern Veranstaltungsort: Mohr-Villa\,  SitulistraÃ
 Ÿe 75\,  80939 MÃ¼nchen Infos unter: Amnesty MÃ¼nchen Verteidigen wir das R
 echt auf Meinungs- und Versammlungsfreiheit ! Informationen zur aktuellen A
 mnesty Kampagne Nach einer kurzen[..]\nhttps://www.m-i-n.net/events/wir-emp
 fehlen-protect-the-protest/
URL:https://www.m-i-n.net/events/wir-empfehlen-protect-the-protest/
END:VEVENT
END:VCALENDAR