BEGIN:VCALENDAR
VERSION:2.0
PRODID:-//eventon.com NONSGML v1.0//EN
CALSCALE:GREGORIAN
METHOD:PUBLISH
BEGIN:VEVENT
UID:69e6140d3e72e
DTSTAMP:20260420T115453Z
DTSTART:20231021T070000Z
DTEND:20231021T153000Z
LOCATION:
SUMMARY:Wir empfehlen: "Plant-for-the-Planet Akademie"
DESCRIPTION:Plant-for-the-Planet Akademie Wie sorgt die Bewegung der Gemein
 wohlökonomie langfristig für Klimagerechtigkeit? Sa\,  21. Oktober 2023\,
   9:00 Uhr- 17:30 Uhr Veranstalter: Klimaherbst; plant for the planet found
 ation Treffpunkt: Grundschule an der Theodor-Fischer-Straße 73 Anmeldung 
 unter: https://www.plant-for-the-planet.org/de/academies/#upcoming Infos un
 ter: Klimaherbst Gleichaltrige informieren die Teilnehmenden über Ursachen
  und Folgen der Klimakrise und begeistern andere[..]\nhttps://www.m-i-n.net
 /events/wir-empfehlen-plant-for-the-planet-akademie/
URL:https://www.m-i-n.net/events/wir-empfehlen-plant-for-the-planet-akademie/
END:VEVENT
END:VCALENDAR