BEGIN:VCALENDAR
VERSION:2.0
PRODID:-//eventon.com NONSGML v1.0//EN
CALSCALE:GREGORIAN
METHOD:PUBLISH
BEGIN:VEVENT
UID:69e61c0f3917b
DTSTAMP:20260420T122903Z
DTSTART:20231012T170000Z
DTEND:20231012T193000Z
LOCATION:
SUMMARY:Wir empfehlen: "Faire Wirtschaft – faires Klima?"
DESCRIPTION:Faire Wirtschaft – faires Klima? Wie sorgt die Bewegung der G
 emeinwohlökonomie langfristig für Klimagerechtigkeit? Do\,  12. Oktober 2
 023\,  19:00 Uhr- 21:30 Uhr Veranstalter: Klimaherbst; sparda-Bank München
  e.G. Treffpunkt: KickOff MUCBOOK Clubhouse; Ridlerstraße 13-15\,  80339 
 München Anmeldung unter: benedikt.empl@ecogood.org Infos unter: Klimaherbs
 t Geld und Wirtschaft spielt eine tragende Rolle\,  deshalb wird sich[..]\n
 https://www.m-i-n.net/events/wir-empfehlen-faire-wirtschaft-faires-klima/
URL:https://www.m-i-n.net/events/wir-empfehlen-faire-wirtschaft-faires-klima/
END:VEVENT
END:VCALENDAR