BEGIN:VCALENDAR
VERSION:2.0
PRODID:-//eventon.com NONSGML v1.0//EN
CALSCALE:GREGORIAN
METHOD:PUBLISH
BEGIN:VEVENT
UID:69e5f2ccdd5a3
DTSTAMP:20260420T093300Z
DTSTART:20231012T073000Z
DTEND:20231012T140000Z
LOCATION:
SUMMARY:Wir empfehlen: "Lebensraum Regenwald"
DESCRIPTION:Lebensraum Regenwald Do\,  12. Oktober 2023\,  9:30 Uhr- 16:00 
 Uhr Veranstalter: Klimaherbst Referenten: Elizabeth Heller\,  Dorothea Moza
 rt\,  Heinz Schulze Treffpunkt:Â EineWeltHaus\,  Schwanthalerstr. 80\,  803
 36 MÃ¼nchen Anmeldung unter: e.heller@nordsuedforum.de Infos unter: Klimahe
 rbst Die tropischen RegenwÃ¤lder haben eine herausragende Bedeutung fÃ¼r Kl
 imagerechtigkeit und BiodiversitÃ¤t. Landkonflikte und Abholzung bedrohen Ã
 –kosystem\,  Lebenswelt und Kultur indigener[..]\nhttps://www.m-i-n.net/eve
 nts/wir-empfehlen-lebensraum-regenwald/
URL:https://www.m-i-n.net/events/wir-empfehlen-lebensraum-regenwald/
END:VEVENT
END:VCALENDAR