BEGIN:VCALENDAR
VERSION:2.0
PRODID:-//eventon.com NONSGML v1.0//EN
CALSCALE:GREGORIAN
METHOD:PUBLISH
BEGIN:VEVENT
UID:69e89d29ad337
DTSTAMP:20260422T100425Z
DTSTART:20231011T130000Z
DTEND:20231011T160000Z
LOCATION:
SUMMARY:Wir empfehlen: "Mobile StadtOase in Berg am Laim"
DESCRIPTION:Mobile StadtOase in Berg am Laim Mi\,  11. Oktober 2023\,  15:0
 0 Uhr- 18:00 Uhr Veranstalter: Klimaherbst Referent: Teams der Forschungspr
 ojekte JUST-Nature und Stadtoasen im Klimawandel Anmeldung und Infos unter:
  Klimaherbst Öffentliches Grün steht unter Druck. Unsere Stadt wird dicht
 er\,  lauter und im Sommer heißer. Grüne Freiräume – Parks\,  Plätze 
 und[..]\nhttps://www.m-i-n.net/events/wir-empfehlen-mobile-stadtoase-berg-a
 m-laim/
URL:https://www.m-i-n.net/events/wir-empfehlen-mobile-stadtoase-berg-am-laim/
END:VEVENT
END:VCALENDAR