BEGIN:VCALENDAR
VERSION:2.0
PRODID:-//eventon.com NONSGML v1.0//EN
CALSCALE:GREGORIAN
METHOD:PUBLISH
BEGIN:VEVENT
UID:69e773903fd20
DTSTAMP:20260421T125440Z
DTSTART:20231010T090000Z
DTEND:20231010T123000Z
LOCATION:
SUMMARY:Wir empfehlen: "Zukunftsfragen – Junge Leute im Dialog; Die Klimakrise – eine Frage der Generationengerechtigkeit?"
DESCRIPTION:Zukunftsfragen – Junge Leute im Dialog Die Klimakrise – ein
 e Frage der Generationengerechtigkeit? Di\,  10. Oktober 2023\,  11:00 Uhr-
  14:30 Uhr Veranstalter: Klimaherbst Referent: Hep Monatzeder\,  Winfried E
 ckardt\,  Raphael Wiegand und Luca Barakat Anmeldung und Infos unter: Zukun
 ftsfragen Aus der Perspektive heutiger Schüler:innen sind die zurückliege
 nden Generationen für die Aufheizung[..]\nhttps://www.m-i-n.net/events/wir
 -empfehlen-junge-leute-im-dialog-die-klimakrise-eine-frage-der-generationen
 gerechtigkeit/
URL:https://www.m-i-n.net/events/wir-empfehlen-junge-leute-im-dialog-die-klimakrise-eine-frage-der-generationengerechtigkeit/
END:VEVENT
END:VCALENDAR