BEGIN:VCALENDAR
VERSION:2.0
PRODID:-//eventon.com NONSGML v1.0//EN
CALSCALE:GREGORIAN
METHOD:PUBLISH
BEGIN:VEVENT
UID:69e76ca90dff1
DTSTAMP:20260421T122513Z
DTSTART:20231025T160000Z
DTEND:20231025T160000Z
LOCATION:
SUMMARY:Wir empfehlen: "„Challenge accepted“ Spiel- und Filmabend"
DESCRIPTION:„Challenge accepted“ Spiel- und Filmabend Mi\,  25. Oktober
  2023\,  18:00 Uhr Green City Büro\,  Lindwurmstraße 88\,  Innenhof\,  2.
  Aufgang\,  5. Stock\,  80337 München Veranstalter: Greencity Der Sommer n
 eigt sich jetzt langsam dem Ende zu und der Herbst beginnt… Um sich richt
 ig in die gemütliche Herbststimmung reinzufühlen wäre es sehr schön\, [
 ..]\nhttps://www.m-i-n.net/events/wir-empfehlen-challenge-accepted-spiel-un
 d-filmabend/
URL:https://www.m-i-n.net/events/wir-empfehlen-challenge-accepted-spiel-und-filmabend/
END:VEVENT
END:VCALENDAR