BEGIN:VCALENDAR
VERSION:2.0
PRODID:-//eventon.com NONSGML v1.0//EN
CALSCALE:GREGORIAN
METHOD:PUBLISH
BEGIN:VEVENT
UID:69e7807ef142f
DTSTAMP:20260421T134950Z
DTSTART:20231009T170000Z
DTEND:20231009T170000Z
LOCATION:
SUMMARY:Wir empfehlen: "Protest und Widerstand – Wer nicht träumt\,  hat schon verloren: Konformität und Kritiklosigkeit im Bestehenden"
DESCRIPTION:Protest und Widerstand – Wer nicht träumt\,  hat schon verlo
 ren: Konformität und Kritiklosigkeit im Bestehenden Mo\,  9. Oktober 2023\
 ,  19 Uhr PATHOS theater\,  Dachauer Str. 110d\,  80636 München Veranstalt
 er: Ökoesel Referent: Christian Rehbein\,  Soziologe\,  ÖkoEsel Anmeldung
  und Infos unter: kritische Nachhaltigkeit &#8211; Ökoesel Warum kommt es 
 nicht zu stärkeren Bestrebungen\, [..]\nhttps://www.m-i-n.net/events/wir-e
 mpfehlen-protest-und-widerstand-konformitaet-und-kritiklosigkeit-im-bestehe
 nden/
URL:https://www.m-i-n.net/events/wir-empfehlen-protest-und-widerstand-konformitaet-und-kritiklosigkeit-im-bestehenden/
END:VEVENT
END:VCALENDAR