BEGIN:VCALENDAR
VERSION:2.0
PRODID:-//eventon.com NONSGML v1.0//EN
CALSCALE:GREGORIAN
METHOD:PUBLISH
BEGIN:VEVENT
UID:69e60b7e7515f
DTSTAMP:20260420T111822Z
DTSTART:20231011T150000Z
DTEND:20231011T180000Z
LOCATION:
SUMMARY:Wir empfehlen: "Das Klimapuzzle : Wir haben die Karten in der Hand"
DESCRIPTION:Das Klimapuzzle : Wir haben die Karten in der Hand Mi\,  11. Ok
 tober 2023\,  17-20 Uhr Nachbarschaftstreff Moosach\,  Untermenzinger Str. 
 76\,  München\,  80997 Anmeldung und Infos unter: Leocor Du willst etwas g
 egen die Klimakrise tun\,  hast aber nicht die Zeit\,  Klimawissenschaftler
 :in zu werden? Dann ist das Klimapuzzle genau das Richtige[..]\nhttps://www
 .m-i-n.net/events/wir-empfehlen-das-klimapuzzle/
URL:https://www.m-i-n.net/events/wir-empfehlen-das-klimapuzzle/
END:VEVENT
END:VCALENDAR