BEGIN:VCALENDAR
VERSION:2.0
PRODID:-//eventon.com NONSGML v1.0//EN
CALSCALE:GREGORIAN
METHOD:PUBLISH
BEGIN:VEVENT
UID:69e74d49e1e94
DTSTAMP:20260421T101121Z
DTSTART:20231013T070000Z
DTEND:20231013T110000Z
LOCATION:
SUMMARY:Wir empfehlen: "Fachtag: BNE Vision 20230: für alle\,  mit allen"
DESCRIPTION:Fachtag: BNE Vision 20230: für alle\,  mit allen Zusatzprogram
 m Lehre &amp; Forschung veranstaltet von BenE München e. V. Freitag\,  18.
 10.2023 9:00 &#8211; 13:00  Uhr Anmeldung unter: info@bene-muenchen.de Im 
 Rahmen des Fachtags „BNE VISION 2030: für alle\,  mit allen“ am 18. Ok
 tober findet vormittags speziell für den Hochschulbereich ein Zusatzprogra
 mm zu[..]\nhttps://www.m-i-n.net/events/wir-empfehlen-fachtag-bne-vision-20
 230-fuer-alle-mit-allen/
URL:https://www.m-i-n.net/events/wir-empfehlen-fachtag-bne-vision-20230-fuer-alle-mit-allen/
END:VEVENT
END:VCALENDAR