BEGIN:VCALENDAR
VERSION:2.0
PRODID:-//eventon.com NONSGML v1.0//EN
CALSCALE:GREGORIAN
METHOD:PUBLISH
BEGIN:VEVENT
UID:69e7492541efb
DTSTAMP:20260421T095341Z
DTSTART:20231012T143000Z
DTEND:20231013T110000Z
LOCATION:
SUMMARY:Wir empfehlen: " Regenerative Kulturen Gestalten - Zwei Tage mit Daniel Wahl"
DESCRIPTION:Regenerative Kulturen Gestalten Zwei Tage mit Daniel Wahl veran
 staltet von BenE in Kooperation mit Kairos Stiftung Anmeldung für eine ode
 r beide Tage bis 10. Oktober unter: info@bene-muenchen.de Tag 1\,   Kurzwo
 rkshop: Bio-Regionale Kulturen Gestalten – von globalen Problemen zu loka
 len Potentialen“ Donnerstag\,  12.10.2023 16:30 &#8211; 18.30 BenE Büro\
 ,  Ledererstr. 17 In[..]\nhttps://www.m-i-n.net/events/wir-empfehlen-fortbi
 ldung-regenerative-potentiale-entdecken-wie-gestalten-wir-bio-regionale-ler
 nreisen/
URL:https://www.m-i-n.net/events/wir-empfehlen-fortbildung-regenerative-potentiale-entdecken-wie-gestalten-wir-bio-regionale-lernreisen/
END:VEVENT
END:VCALENDAR