BEGIN:VCALENDAR
VERSION:2.0
PRODID:-//eventon.com NONSGML v1.0//EN
CALSCALE:GREGORIAN
METHOD:PUBLISH
BEGIN:VEVENT
UID:69e4d022aaf8f
DTSTAMP:20260419T125250Z
DTSTART:20231025T150000Z
DTEND:20231025T190000Z
LOCATION:
SUMMARY:Wir empfehlen: "Ladies* Lunch: Wo sind die Frauen* in den Medien?"
DESCRIPTION:Ladies* Lunch mit Kathrin Werner\,  Plan W\,  Süddeutsche Zeit
 ung Wo sind die Frauen* in den Medien? Warum unsere Medienlandschaft divers
 er werden muss. veranstaltet von Petra-Kelly-Stiftung Mittwoch\,  25.10.202
 3 17:00 &#8211; 21:00  Uhr Mathilda Wirtsbar\,  Sedlmayrstraße 18 kostenf
 rei\,  Anmeldung: Anmeldung &#8222;Ladies* Lunch: Wo sind die Frauen in den
  Medien? Warum unsere Medienlandschaft[..]\nhttps://www.m-i-n.net/events/wi
 r-empfehlen-ladies-lunch-wo-sind-die-frauen-in-den-medien/
URL:https://www.m-i-n.net/events/wir-empfehlen-ladies-lunch-wo-sind-die-frauen-in-den-medien/
END:VEVENT
END:VCALENDAR