BEGIN:VCALENDAR
VERSION:2.0
PRODID:-//eventon.com NONSGML v1.0//EN
CALSCALE:GREGORIAN
METHOD:PUBLISH
BEGIN:VEVENT
UID:69e5fb78b2b1d
DTSTAMP:20260420T101000Z
DTSTART:20230930T120000Z
DTEND:20230930T180000Z
LOCATION:
SUMMARY:Wir empfehlen: "Damit studentisches Wohnen in München möglich wird!" (Demo)
DESCRIPTION:Veranstalter: AK Wohnen der Münchener Studierendenvertretungen
  Ort: Nähe der Pinakothek der Moderne Hintergrund: Eine bezahlbare Wohnung
  im Münchener Raum zu finden ist eine absolute Zumutung! Vor allem junge M
 enschen haben große Probleme damit\,  sowohl eine Wohnung zu finden\,  die
  für sie bezahlbar ist\,  als auch eine Zusage für diese zu[..]\nhttps://
 www.m-i-n.net/events/wir-empfehlen-damit-studentisches-wohnen-in-muenchen-m
 oeglich-wird-demo/
URL:https://www.m-i-n.net/events/wir-empfehlen-damit-studentisches-wohnen-in-muenchen-moeglich-wird-demo/
END:VEVENT
END:VCALENDAR