BEGIN:VCALENDAR
VERSION:2.0
PRODID:-//eventon.com NONSGML v1.0//EN
CALSCALE:GREGORIAN
METHOD:PUBLISH
BEGIN:VEVENT
UID:69e4e7b9aab80
DTSTAMP:20260419T143329Z
DTSTART:20230923T080000Z
DTEND:20230923T160000Z
LOCATION:
SUMMARY:Aktionstag "Wir machen Wind - 1000 Windräder für Bayern"
DESCRIPTION:Kommt am Samstag auf den Gärtnerplatz und trefft uns beim Stan
 d von MIN und Klimaherbst! Wir haben unser SDG-Glücksrad dabei\,  spannend
 e Quizfragen zum Thema Energie und ein paar kleine Preise. Veranstalter: Ne
 tzwerk Saubere Energie München Hintergrund: In Bayern wird seit Jahren der
  Windkraft-Ausbau blockiert. Dazu und zu weiteren Energie- und[..]\nhttps:/
 /www.m-i-n.net/events/aktionstag-wir-machen-wind-1000-windraeder-fuer-bayer
 n/
URL:https://www.m-i-n.net/events/aktionstag-wir-machen-wind-1000-windraeder-fuer-bayern/
END:VEVENT
END:VCALENDAR