BEGIN:VCALENDAR
VERSION:2.0
PRODID:-//eventon.com NONSGML v1.0//EN
CALSCALE:GREGORIAN
METHOD:PUBLISH
BEGIN:VEVENT
UID:69e5e9f440e64
DTSTAMP:20260420T085516Z
DTSTART:20230915T160000Z
DTEND:20230915T180000Z
LOCATION:
SUMMARY:Wir empfehlen: " Infoveranstaltung zur 2. Stammstrecke"
DESCRIPTION:Die MÃ¼nchen-Liste e. V. mit Stadtrat Dirk HÃ¶pner laden am 15.
 09.2023 um 18.00 Uhr zur Informationsveranstaltung mit Experten und begleit
 ender Diskussion in den Saal der KKV Hansa e. V. MÃ¼nchen\,  Brienner StraÃ
 Ÿe 39\,  80333 MÃ¼nchen ein. Thema: Die zweite S-Bahn-Stammstrecke: ein â€ž
 Schwarzes Lochâ€œ fÃ¼r MÃ¼nchen Mehr Infos hier Anmeldungen an[..]\nhttps:/
 /www.m-i-n.net/events/wir-empfehlen-infoveranstaltung-zur-2-stammstrecke/
URL:https://www.m-i-n.net/events/wir-empfehlen-infoveranstaltung-zur-2-stammstrecke/
END:VEVENT
END:VCALENDAR