BEGIN:VCALENDAR
VERSION:2.0
PRODID:-//eventon.com NONSGML v1.0//EN
CALSCALE:GREGORIAN
METHOD:PUBLISH
BEGIN:VEVENT
UID:69e75f0f9d8c8
DTSTAMP:20260421T112711Z
DTSTART:20230910T100000Z
DTEND:20230910T120000Z
LOCATION:
SUMMARY:Wir empfehlen: " Radldemo in die Verkehrswende"
DESCRIPTION:Die Kreisgruppe München des BUND Naturschutzes lädt herzlich 
 zu ihrer Radldemo am letzten Tag der IAA ein: am Sonntag\,  dem 10. Septemb
 er ab 12 Uhr bis spätestens 14 Uhr Startplatz Brundageplatz: Platz an der 
 U-Bahnstation Olympiazentrum bis zum Zielort Karolinenplatz Am letzten Tag 
 der IAA wird gemeinsam ab BMW\,  an[..]\nhttps://www.m-i-n.net/events/wir-e
 mpfehlen-radldemo-in-die-verkehrswende/
URL:https://www.m-i-n.net/events/wir-empfehlen-radldemo-in-die-verkehrswende/
END:VEVENT
END:VCALENDAR