BEGIN:VCALENDAR
VERSION:2.0
PRODID:-//eventon.com NONSGML v1.0//EN
CALSCALE:GREGORIAN
METHOD:PUBLISH
BEGIN:VEVENT
UID:69e4e7ba95413
DTSTAMP:20260419T143330Z
DTSTART:20230904T140000Z
DTEND:20230904T170000Z
LOCATION:
SUMMARY:Wir empfehlen: "Übers Rad − Ein Workshop" Open Q\,  St.-Quirin-Platz - (M)unterwegs
DESCRIPTION:Titel: &#8222;Übers Rad − Ein Workshop&#8220; Veranstalter: 
 Kooperative Großstadt – Baugenossenschaft Ort: St.-Quirin-Platz\,  Giesi
 ng\,  München Inhalt: Fahrradfreundliche Verkehrsplanung in Neubauquartier
 en &#8211; Erfahre den Status Quo über „Neufreimann“ und diskutiere m
 ögliche Alternativen. Im Anschluss Musik und Drinks! &nbsp;\nhttps://www.m
 -i-n.net/events/wir-empfehlen-uebers-rad-%e2%88%92-ein-workshop-open-q-st-q
 uirin-platz-munterwegs/
URL:https://www.m-i-n.net/events/wir-empfehlen-uebers-rad-%e2%88%92-ein-workshop-open-q-st-quirin-platz-munterwegs/
END:VEVENT
END:VCALENDAR