BEGIN:VCALENDAR
VERSION:2.0
PRODID:-//eventon.com NONSGML v1.0//EN
CALSCALE:GREGORIAN
METHOD:PUBLISH
BEGIN:VEVENT
UID:69e4d05ac3f2f
DTSTAMP:20260419T125346Z
DTSTART:20230828T160000Z
DTEND:20230828T180000Z
LOCATION:
SUMMARY:Wir empfehlen: "Gemütlicher Austausch zu aktuellen Themen (LoLa Treff)" Ranertinsel\,  Lochhausen - (M)unterwegs
DESCRIPTION:Titel: &#8222;Gemütlicher Austausch zu aktuellen Themen (LoLa 
 Treff)&#8220; Veranstalter: Bürgervereinigung Lochhausen-Langwied e.V. Or
 t: &#8222;Ranertinsel&#8220;\,  Ranertstraße / Langwieder Hauptstraße\, 
  Lochhausen Inhalt: mehr Informationen bei Bürgervereinigung Lochhausen-
 Langwied e.V.\nhttps://www.m-i-n.net/events/wir-empfehlen-gemuetlicher-aust
 ausch-zu-aktuellen-themen-lola-treff-ranertinsel-lochhausen-munterwegs/
URL:https://www.m-i-n.net/events/wir-empfehlen-gemuetlicher-austausch-zu-aktuellen-themen-lola-treff-ranertinsel-lochhausen-munterwegs/
END:VEVENT
END:VCALENDAR