BEGIN:VCALENDAR
VERSION:2.0
PRODID:-//eventon.com NONSGML v1.0//EN
CALSCALE:GREGORIAN
METHOD:PUBLISH
BEGIN:VEVENT
UID:69e5f7df091b1
DTSTAMP:20260420T095439Z
DTSTART:20230823T140000Z
DTEND:20230823T153000Z
LOCATION:
SUMMARY:Wir empfehlen: "Wildes für die Küche - Kräuter am Wegrand" Ranertinsel\,  Lochhausen - (M)unterwegs
DESCRIPTION:Titel: &#8222;Wildes für die Küche &#8211; Kräuter am Wegran
 d&#8220; Veranstalter: Bürgervereinigung Lochhausen-Langwied e.V. Ort: &
 #8222;Ranertinsel&#8220;\,  Ranertstraße / Langwieder Hauptstraße\,  Loch
 hausen Inhalt: mehr Informationen bei Bürgervereinigung Lochhausen-Langw
 ied e.V.\nhttps://www.m-i-n.net/events/wir-empfehlen-wildes-fuer-die-kueche
 -kraeuter-am-wegrand-ranertinsel-lochhausen-munterwegs/
URL:https://www.m-i-n.net/events/wir-empfehlen-wildes-fuer-die-kueche-kraeuter-am-wegrand-ranertinsel-lochhausen-munterwegs/
END:VEVENT
END:VCALENDAR