BEGIN:VCALENDAR
VERSION:2.0
PRODID:-//eventon.com NONSGML v1.0//EN
CALSCALE:GREGORIAN
METHOD:PUBLISH
BEGIN:VEVENT
UID:69eb2b66dde53
DTSTAMP:20260424T083550Z
DTSTART:20230803T140000Z
DTEND:20230803T170000Z
LOCATION:
SUMMARY:Wir empfehlen: "Kleidertauschparty" Ranertinsel\,  Lochhausen - (M)unterwegs
DESCRIPTION:Titel: Kleidertauschparty Veranstalter: Bürgervereinigung Loc
 hhausen-Langwied e.V. Ort: &#8222;Ranertinsel&#8220;\,  Ranertstraße / La
 ngwieder Hauptstraße\,  Lochhausen Inhalt: mehr Informationen bei Bürge
 rvereinigung Lochhausen-Langwied e.V.\nhttps://www.m-i-n.net/events/wir-emp
 fehlen-kleidertauschparty-ranertinsel-lochhausen/
URL:https://www.m-i-n.net/events/wir-empfehlen-kleidertauschparty-ranertinsel-lochhausen/
END:VEVENT
END:VCALENDAR