BEGIN:VCALENDAR
VERSION:2.0
PRODID:-//eventon.com NONSGML v1.0//EN
CALSCALE:GREGORIAN
METHOD:PUBLISH
BEGIN:VEVENT
UID:69e77270cd222
DTSTAMP:20260421T124952Z
DTSTART:20230728T130000Z
DTEND:20230728T215000Z
LOCATION:
SUMMARY:Wir empfehlen: "Miniblock Party Steinhuber"
DESCRIPTION:Titel: &#8222;Miniblock Party Steinhuber&#8220; Veranstalter: K
 ollektivis &amp; TUM Ort: Steinhuberplatz (Kreuzung Steinheil- und Enhuber
 straße)\,  80333 München Inhalt: Am Freitag\,  28.07.2023\,  lädt der TU
 M Lehrstuhl für Siedlungsstruktur und Verkehrsplanung und die Kollektivis 
 e.V. zu der Eröffnung des Miniblock Steinhuber ein. Mit Key Notes von inte
 rnationalen Speaker*innen\,  einem Open Mic\,  gemeinsamem Picnic und[..]\n
 https://www.m-i-n.net/events/wir-empfehlen-miniblock-party-steinhuber/
URL:https://www.m-i-n.net/events/wir-empfehlen-miniblock-party-steinhuber/
END:VEVENT
END:VCALENDAR