BEGIN:VCALENDAR
VERSION:2.0
PRODID:-//eventon.com NONSGML v1.0//EN
CALSCALE:GREGORIAN
METHOD:PUBLISH
BEGIN:VEVENT
UID:69e62f78e7054
DTSTAMP:20260420T135152Z
DTSTART:20230727T160000Z
DTEND:20230727T180000Z
LOCATION:
SUMMARY:Wir empfehlen: "Podiumsdiskussion "Von der “autogerechten” zur “menschengerechten” Stadt - Wann kommt die (weitgehend) autofreie Isar?""
DESCRIPTION:Titel: &#8222;Podiumsdiskussion &#8222;Von der “autogerechten
 ” zur “menschengerechten” Stadt &#8211; Wann kommt die (weitgehend) a
 utofreie Isar?&#8220;&#8220; Veranstalter: Isarlust e.V. Ort: Kulturstran
 d München\,  Corneliusbrücke Inhalt: Der Isarlust e.V. plant gemeinsam mi
 t der Münchner Abendzeitung und dem Bund Naturschutz KG München eine Podi
 umsdiskussion zum Thema “Von der “autogerechten” zur “menschengerec
 hten” Stadt: Wann kommt die (weitgehend)[..]\nhttps://www.m-i-n.net/event
 s/wir-empfehlen-podiumsdiskussion-von-der-autogerechten-zur-menschengerecht
 en-stadt-wann-kommt-die-weitgehend-autofreie-isar/
URL:https://www.m-i-n.net/events/wir-empfehlen-podiumsdiskussion-von-der-autogerechten-zur-menschengerechten-stadt-wann-kommt-die-weitgehend-autofreie-isar/
END:VEVENT
END:VCALENDAR