BEGIN:VCALENDAR
VERSION:2.0
PRODID:-//eventon.com NONSGML v1.0//EN
CALSCALE:GREGORIAN
METHOD:PUBLISH
BEGIN:VEVENT
UID:69e773d83aeea
DTSTAMP:20260421T125552Z
DTSTART:20230824T100000Z
DTEND:20230824T160000Z
LOCATION:
SUMMARY:Wir empfehlen: "Trachten mit Stammbaum - Großer Secondhand-Markt mit Dirndl und Tracht"
DESCRIPTION:Titel: &#8222;Trachten mit Stammbaum &#8211; Großer Secondhand
 -Markt mit Dirndl und Tracht&#8220; Veranstalter: aktion hoffnung Ort: Eine
 WeltHaus München\,  Schwanthalerstraße 80\,  80336 München Inhalt: Indiv
 idualität statt Mode von der Stange – das bieten die mobilen Secondhand-
 Modemärkte der aktion hoffnung. Besucherinnen und Besucher können sich au
 f eine tolle Auswahl an Damen- und Herrenkleidung[..]\nhttps://www.m-i-n.ne
 t/events/wir-empfehlen-trachten-mit-stammbaum-grosser-secondhand-markt-mit-
 dirndl-und-tracht/
URL:https://www.m-i-n.net/events/wir-empfehlen-trachten-mit-stammbaum-grosser-secondhand-markt-mit-dirndl-und-tracht/
END:VEVENT
END:VCALENDAR