BEGIN:VCALENDAR
VERSION:2.0
PRODID:-//eventon.com NONSGML v1.0//EN
CALSCALE:GREGORIAN
METHOD:PUBLISH
BEGIN:VEVENT
UID:69e9dfc6c628d
DTSTAMP:20260423T090054Z
DTSTART:20231012T073000Z
DTEND:20231012T140000Z
LOCATION:
SUMMARY:Wir empfehlen: "#Praxis-Seminar „Lebensraum Regenwald“"
DESCRIPTION:Titel: &#8222;#Praxis-Seminar „Lebensraum Regenwald“ für L
 ehrkräfte aller Schularten&amp;Jahrganggstufen sowie Multiplikator:innen a
 us der Kinder- und Jugendarbeit\,  Umweltbildung und Bildung für nachhalti
 ge Entwicklung&#8220; Veranstalter: Nord Süd Forum München e.V.\,  Ökopr
 ojekt MobilSpiel e.V. und Arbeitskreis München Ashàninka Ort: EineWeltHau
 s München\,  Schwanthalerstraße 80\,  80336 München Inhalt: Die tropisch
 en Regenwälder haben eine herausragende Bedeutung für[..]\nhttps://www.m-
 i-n.net/events/wir-empfehlen-praxis-seminar-lebensraum-regenwald/
URL:https://www.m-i-n.net/events/wir-empfehlen-praxis-seminar-lebensraum-regenwald/
END:VEVENT
END:VCALENDAR