BEGIN:VCALENDAR
VERSION:2.0
PRODID:-//eventon.com NONSGML v1.0//EN
CALSCALE:GREGORIAN
METHOD:PUBLISH
BEGIN:VEVENT
UID:69e609ebdb2f5
DTSTAMP:20260420T111139Z
DTSTART:20230629T170000Z
DTEND:20230629T190000Z
LOCATION:
SUMMARY:Wir empfehlen: "Online-Vortrag „(Wann) fliegen wir klimaneutral?“"
DESCRIPTION:Titel: &#8222;Online-Vortrag „(Wann) fliegen wir klimaneutral
 ?“&#8220; Veranstalter: Protect the Planet\,  Saubere Energie München e
 .V. Ort: nur online per Zoom (Anmelden!) und LIVE auf Youtube Inhalt: Flieg
 en ist die klimaschädlichste Art\,  sich fortzubewegen. Der CO2-Effekt ist
  aber nur ein Teil des Klimaproblems\,  hinzu kommen (Faktor 3) Partikel\, 
  Ozonbildung und Kondensstreifen. Bei technischen[..]\nhttps://www.m-i-n.ne
 t/events/wir-empfehlen-online-vortrag-wann-fliegen-wir-klimaneutral/
URL:https://www.m-i-n.net/events/wir-empfehlen-online-vortrag-wann-fliegen-wir-klimaneutral/
END:VEVENT
END:VCALENDAR