BEGIN:VCALENDAR
VERSION:2.0
PRODID:-//eventon.com NONSGML v1.0//EN
CALSCALE:GREGORIAN
METHOD:PUBLISH
BEGIN:VEVENT
UID:69e499f94057b
DTSTAMP:20260419T090145Z
DTSTART:20230608T170000Z
DTEND:20230608T190000Z
LOCATION:
SUMMARY:Wir empfehlen: "Online-Veranstaltung mit dem Comicmacher Juan Acevedo\,  Peru\,  "Mit Comics für Menschenrechte""
DESCRIPTION:Titel: &#8222;Online-Veranstaltung mit dem Comicmacher Juan Ace
 vedo\,  Peru\, &#8220;Mit Comics für Menschenrechte&#8220;&#8220; Veransta
 lter: Nord Süd Forum München e.V. | Lateinamerika-Arbeitskreis Ort: onlin
 e Inhalt: Geht das? Passt das? Ja\,  der großartige Comicmacher Juan Aceve
 do (Peru) hat &#8211; neben den Alben über Machismus\,  Militärherrschaft
  und sonstigen politischen und menschlichen Dummheiten &#8211; in seinen[..
 ]\nhttps://www.m-i-n.net/events/wir-empfehlen-online-veranstaltung-mit-dem-
 comicmacher-juan-acevedo-peru-mit-comics-fuer-menschenrechte/
URL:https://www.m-i-n.net/events/wir-empfehlen-online-veranstaltung-mit-dem-comicmacher-juan-acevedo-peru-mit-comics-fuer-menschenrechte/
END:VEVENT
END:VCALENDAR