BEGIN:VCALENDAR
VERSION:2.0
PRODID:-//eventon.com NONSGML v1.0//EN
CALSCALE:GREGORIAN
METHOD:PUBLISH
BEGIN:VEVENT
UID:69e7724f43048
DTSTAMP:20260421T124919Z
DTSTART:20230630T170000Z
DTEND:20230630T190000Z
LOCATION:
SUMMARY:Wir empfehlen: "Stammtisch München Solar2030 e.V."
DESCRIPTION:Titel: &#8222;Stammtisch München Solar2030 e.V.&#8220; Veranst
 alter: Solar2030 e.V. Ort: Augustiner Schützengarten (Zielstattstraße 6\
 ,  81379 München) Inhalt: Solar2030 lädt zum Stammtisch ein: Ihr seid an 
 den Themen Balkonkraftwerk\,  Photovoltaik\,  Solaranlagen und oder der Ene
 rgiewende interessiert? Dann seid ihr bei uns genau richtig! Über unseren 
 Stammtisch findet ihr Gleichgesinnte und auch Leute mit[..]\nhttps://www.m-
 i-n.net/events/wir-empfehlen-stammtisch-muenchen-solar2030-e-v/
URL:https://www.m-i-n.net/events/wir-empfehlen-stammtisch-muenchen-solar2030-e-v/
END:VEVENT
END:VCALENDAR