BEGIN:VCALENDAR
VERSION:2.0
PRODID:-//eventon.com NONSGML v1.0//EN
CALSCALE:GREGORIAN
METHOD:PUBLISH
BEGIN:VEVENT
UID:69e73932099ba
DTSTAMP:20260421T084538Z
DTSTART:20230619T120000Z
DTEND:20230619T150000Z
LOCATION:
SUMMARY:Wir empfehlen: "Bauzentrum Web-Forum: Mieterstrom 2023 – Teil 2: Mieterstrom in der aktuellen Gesetzgebung"
DESCRIPTION:Titel: &#8222;Bauzentrum Web-Forum: Mieterstrom 2023 – Teil 2
 : Mieterstrom in der aktuellen Gesetzgebung&#8220; Veranstalter: Bauzentrum
  München Ort: Online Inhalt: Das Bundesministerium für Wirtschaft und Kli
 maschutz (BMWK) hat im Mai 2023 die Photovoltaik-Strategie veröffentlicht.
  Plan ist\,  die nötigen Gesetze vor der Sommerpause zu verabschieden. Meh
 rfamilienhäuser sind gemäß dem vorliegenden Strategiepapier des[..]\nhtt
 ps://www.m-i-n.net/events/wir-empfehlen-bauzentrum-web-forum-mieterstrom-20
 23-teil-2-mieterstrom-in-der-aktuellen-gesetzgebung/
URL:https://www.m-i-n.net/events/wir-empfehlen-bauzentrum-web-forum-mieterstrom-2023-teil-2-mieterstrom-in-der-aktuellen-gesetzgebung/
END:VEVENT
END:VCALENDAR