BEGIN:VCALENDAR
VERSION:2.0
PRODID:-//eventon.com NONSGML v1.0//EN
CALSCALE:GREGORIAN
METHOD:PUBLISH
BEGIN:VEVENT
UID:69e5f61352635
DTSTAMP:20260420T094659Z
DTSTART:20230613T163000Z
DTEND:20230613T215000Z
LOCATION:
SUMMARY:Wir empfehlen: „Stammtisch Münchner Ernährungsrat"
DESCRIPTION:Titel: „Stammtisch Münchner Ernährungsrat” Veranstalter:
  Münchner Ernährungsrat Ort: wird noch bekannt gegeben Inhalt: Die Schafe
  auf dem Dach sind die heimlichen Stars im Werksviertel &#8211; wie sie dor
 t oben leben und was das ganze mit Nachhaltigkeit in der Stadt zu tun hat\,
   das schauen wir uns beim nächsten Stammtisch mal genauer[..]\nhttps://ww
 w.m-i-n.net/events/wir-empfehlen-stammtisch-muenchner-ernaehrungsrat/
URL:https://www.m-i-n.net/events/wir-empfehlen-stammtisch-muenchner-ernaehrungsrat/
END:VEVENT
END:VCALENDAR