BEGIN:VCALENDAR
VERSION:2.0
PRODID:-//eventon.com NONSGML v1.0//EN
CALSCALE:GREGORIAN
METHOD:PUBLISH
BEGIN:VEVENT
UID:69e7346c60196
DTSTAMP:20260421T082516Z
DTSTART:20230612T110000Z
DTEND:20230612T160000Z
LOCATION:
SUMMARY:Wir empfehlen: „#AgoraStadtgespräch 2023 - Vom Planen zum Handeln: Wie kann die Mobilitätswende beschleunigt werden?"
DESCRIPTION:Titel: „#AgoraStadtgespräch 2023 &#8211; Vom Planen zum Hand
 eln: Wie kann die Mobilitätswende beschleunigt werden?&#8220; Veranstalter
 : Agora Verkehrswende Ort: Online Inhalt: In der siebten Ausgabe unserer Ko
 nferenz zur Stadt als Ort der Verkehrswende spielt das Thema Geschwindigkei
 t wieder eine zentrale Rolle. Denn die vergangenen Monate haben erneut geze
 igt\,  wie sehr die[..]\nhttps://www.m-i-n.net/events/wir-empfehlen-agorast
 adtgespraech-2023-vom-planen-zum-handeln-wie-kann-die-mobilitaetswende-besc
 hleunigt-werden/
URL:https://www.m-i-n.net/events/wir-empfehlen-agorastadtgespraech-2023-vom-planen-zum-handeln-wie-kann-die-mobilitaetswende-beschleunigt-werden/
END:VEVENT
END:VCALENDAR