BEGIN:VCALENDAR
VERSION:2.0
PRODID:-//eventon.com NONSGML v1.0//EN
CALSCALE:GREGORIAN
METHOD:PUBLISH
BEGIN:VEVENT
UID:69e5e787f2f85
DTSTAMP:20260420T084455Z
DTSTART:20230426T170000Z
DTEND:20230426T183000Z
LOCATION:
SUMMARY:Wir empfehlen: "Kartoffelakademie - Geothermie: Erdwärme als Zukunftsenergie?"
DESCRIPTION:Titel: &#8222;Kartoffelakademie &#8211; Geothermie: Erdwärme
  als Zukunftsenergie?&#8220; Veranstalter: Kartoffelkombinat &#8211; der Ve
 rein e.V. Ort: Daiserstr. 15\,  Rgb. und online Referent: Dr. Kai Zosseder
  (TUM) Inhalt: Geothermie: Erdwärme als Zukunftsenergie? Dr. Kai Zosseder 
 von der TU München berichtet über Stand der Dinge und Zukunftsaussichten.
  Die Veranstaltung findet hybrid statt\,  also &#8222;online&#8220; und &#8
 222;offline&#8220;[..]\nhttps://www.m-i-n.net/events/wir-empfehlen-kartoffe
 lakademie-geothermie-erdwa%cc%88rme-als-zukunftsenergie-2/
URL:https://www.m-i-n.net/events/wir-empfehlen-kartoffelakademie-geothermie-erdwa%cc%88rme-als-zukunftsenergie-2/
END:VEVENT
END:VCALENDAR