BEGIN:VCALENDAR
VERSION:2.0
PRODID:-//eventon.com NONSGML v1.0//EN
CALSCALE:GREGORIAN
METHOD:PUBLISH
BEGIN:VEVENT
UID:69e622f1add8c
DTSTAMP:20260420T125825Z
DTSTART:20230420T170000Z
DTEND:20230420T190000Z
LOCATION:
SUMMARY:Dr. Jochen Dallmer (Politologe): „Suffizienz versus materialistische Lebensweise – Glück und Wohlbefinden nur geträumt?“
DESCRIPTION:Titel: Klima: Was kann ich tun? Dr. Jochen Dallmer (Politologe)
 : „Suffizienz versus materialistische Lebensweise – Glück und Wohlbefi
 nden nur geträumt?“ Veranstalter:  Saubere Energie München e.V. und Pr
 otect the Planet in Kooperation mit: Fridays for Future München\,  Bund Na
 turschutz in Bayern e.V. Kreisgruppe München\,  forum Nachhaltig Wirtschaf
 ten\,  Greencity – der Verein\, [..]\nhttps://www.m-i-n.net/events/dr-joc
 hen-dallmer-politologe-suffizienz-versus-materialistische-lebensweise-gluec
 k-und-wohlbefinden-nur-getraeumt/
URL:https://www.m-i-n.net/events/dr-jochen-dallmer-politologe-suffizienz-versus-materialistische-lebensweise-glueck-und-wohlbefinden-nur-getraeumt/
END:VEVENT
END:VCALENDAR