BEGIN:VCALENDAR
VERSION:2.0
PRODID:-//eventon.com NONSGML v1.0//EN
CALSCALE:GREGORIAN
METHOD:PUBLISH
BEGIN:VEVENT
UID:69e5e4f8ad0fa
DTSTAMP:20260420T083400Z
DTSTART:20230403T170000Z
DTEND:20230403T190000Z
LOCATION:
SUMMARY:Dr. rer. nat. Clara Kühner (LMU München): „Psychologie der Klimakrise: Warum handeln wir eigentlich nicht?“
DESCRIPTION:Titel: Klima: Was kann ich tun? Dr. rer. nat. Clara Kühner (LM
 U München): „Psychologie der Klimakrise: Warum handeln wir eigentlich ni
 cht?“ Veranstalter: Saubere Energie München e.V. und Protect the Planet 
 in Kooperation mit: Fridays for Future München\,  Bund Naturschutz in Baye
 rn e.V. Kreisgruppe München\,  forum Nachhaltig Wirtschaften\,  Greencity 
 – der[..]\nhttps://www.m-i-n.net/events/dr-rer-nat-clara-kuehner-lmu-muen
 chen-psychologie-der-klimakrise-warum-handeln-wir-eigentlich-nicht/
URL:https://www.m-i-n.net/events/dr-rer-nat-clara-kuehner-lmu-muenchen-psychologie-der-klimakrise-warum-handeln-wir-eigentlich-nicht/
END:VEVENT
END:VCALENDAR