BEGIN:VCALENDAR
VERSION:2.0
PRODID:-//eventon.com NONSGML v1.0//EN
CALSCALE:GREGORIAN
METHOD:PUBLISH
BEGIN:VEVENT
UID:69e4d0171ed37
DTSTAMP:20260419T125239Z
DTSTART:20230506T073000Z
DTEND:20230506T143000Z
LOCATION:
SUMMARY:Wir empfehlen: "4. Münchner Vereinetag"
DESCRIPTION:Titel: &#8222;4. Münchner Vereinetag&#8220; Veranstalter: Fö
 rderstelle für Bürgerschaftliches Engagement (FöBE) Ort:  Evangelischen
  Stadtakademie München\,  Herzog-Wilhelm-Str. 24 Inhalt: Unter dem Motto: 
 Vereint mehr bewegen! können Sie sich in Workshops mit Fachpersonen und mi
 t anderen Vereinsaktiven aus München austauschen\,  Ihr Wissen erweitern\,
   neue Ideen gewinnen und Kontakte knüpfen. Die Workshops befassen sich mi
 t[..]\nhttps://www.m-i-n.net/events/wir-empfehlen-4-muenchner-vereinetag/
URL:https://www.m-i-n.net/events/wir-empfehlen-4-muenchner-vereinetag/
END:VEVENT
END:VCALENDAR