BEGIN:VCALENDAR
VERSION:2.0
PRODID:-//eventon.com NONSGML v1.0//EN
CALSCALE:GREGORIAN
METHOD:PUBLISH
BEGIN:VEVENT
UID:69e74ab185663
DTSTAMP:20260421T100017Z
DTSTART:20230330T110000Z
DTEND:20230330T130000Z
LOCATION:
SUMMARY:Wir empfehlen: "Runder Tisch 'Lebensmittelretten in der Gemeinschaftsverpflegung'"
DESCRIPTION:Titel: &#8222;Runder Tisch &#8218;Lebensmittelretten in der Ge
 meinschaftsverpflegung'&#8220; Veranstalter: Community Kitchen München Ort
 :  Community Kitchen\,  Fritz-Schäffer-Str. 9\,  81737 München Inhalt: W
 ie Ihr wisst\,  werden nach wie vor große Mengen Lebensmittel trotz einwan
 dfreier Qualität weggeworfen. Das Community Kitchen hat sich zur Aufgabe g
 emacht\,  die Menge an weggeworfenen Lebensmitteln zu reduzieren\,  rettet 
 wöchentlich über[..]\nhttps://www.m-i-n.net/events/wir-empfehlen-runder-t
 isch-lebensmittelretten-in-der-gemeinschaftsverpflegung/
URL:https://www.m-i-n.net/events/wir-empfehlen-runder-tisch-lebensmittelretten-in-der-gemeinschaftsverpflegung/
END:VEVENT
END:VCALENDAR